BEGIN:VCALENDAR
VERSION:2.0
PRODID:-//Site de la commune de Nancay - ECPv4.5.13//NONSGML v1.0//EN
CALSCALE:GREGORIAN
METHOD:PUBLISH
X-WR-CALNAME:Site de la commune de Nancay
X-ORIGINAL-URL:http://www.nancay-sologne.fr
X-WR-CALDESC:Events for Site de la commune de Nancay
BEGIN:VEVENT
DTSTART;VALUE=DATE:20260117
DTEND;VALUE=DATE:20260117
DTSTAMP:20260419T195407
CREATED:20260106T135942Z
LAST-MODIFIED:20260106T135942Z
UID:9670-1768608000-1768694399@www.nancay-sologne.fr
SUMMARY:Raconte tapis musicale - Contes sur le thème des animaux de la forêt
DESCRIPTION: \n
URL:http://www.nancay-sologne.fr/evenement/raconte-tapis-musicale-contes-sur-le-theme-des-animaux-de-la-foret/
LOCATION:Rue de l'Enclos\, Nançay\, 18330\, France
END:VEVENT
END:VCALENDAR